BEGIN:VCALENDAR
PRODID:http://wibix.de/infusions/pro_download_panel/download.php?did=27
VERSION:2.0
METHOD:PUBLISH
BEGIN:VEVENT
DTSTART:20100223T000000Z
UID:6@http://www.gobrl.com/
DTSTAMP:20100223T092912Z
DESCRIPTION:&lt;!--BREAK--&gt;Open Server Nascar 2003 Season Racing IP for server 69.132.51.226 We will start around 8pm est. The server stays up so you can start earlier if you like. Will be short races winner picks next track. All are welcome. See you at the track.(B
SUMMARY:Open Server Nascar 2003 Season Pickup Races MORE...
CLASS:PUBLIC
RRULE:FREQ=WEEKLY;INTERVAL=1
END:VEVENT
END:VCALENDAR
